Workbook

Sheet صورت وضعیت
A10: صندوق سرمایه‌گذاری چند کالایی کیمیا
A11: صورت وضعیت پرتفوی
A12: برای ماه منتهی به 1405/06/31

Sheet سهام
A1: صندوق سرمایه‌گذاری چند کالایی کیمیا
A2: صورت وضعیت پرتفوی
A3: برای ماه منتهی به 1405/06/31
A4: -1 | B4: سرمایه‌گذاری‌ها
A5: -1-1 | C5: سرمایه‌گذاری در سهام و حق تقدم سهام
E6: 1405/05/31 | K6: تغییرات طی دوره | S6: 1405/06/31
K7: خرید طی دوره | O7: فروش طی دوره
A8: نام شرکت | E8: تعداد | G8: بهای تمام شده | I8: خالص ارزش فروش | K8: تعداد | M8: بهای تمام شده | O8: تعداد | Q8: مبلغ فروش | S8: تعداد | U8: قیمت بازار هر سهم | W8: بهای تمام شده | Y8: خالص ارزش فروش | AA8: درصد به کل دارایی‌ها
A9: سکه طلا GoldCoin | E9: 3713 | G9: 3546030173628 | I9: 7677395626875 | K9: 0 | M9: 0 | O9: 0 | Q9: 0 | S9: =E9+K9-O9 -> 3713 | U9: 2362000000 | W9: 3546030173628 | Y9: 8764624683750 | AA9: 8.94
A10: شمش طلا GoldBar | E10: 2411323 | G10: 36724508146394 | I10: 67355003094400 | K10: 57116 | M10: 1725501544139 | O10: 0 | Q10: 0 | S10: =E10+K10-O10 -> 2468439 | U10: 31770000 | W10: 38450009690533 | Y10: 78234093493128 | AA10: 79.82
A11: شمش نقره SilverBar | E11: 1663875 | G11: 6799999157622 | I11: 7486182658719 | K11: 518199 | M11: 2472682448164 | O11: 0 | Q11: 0 | S11: =E11+K11-O11 -> 2182074 | U11: 5020000 | W11: 9272681605786 | Y11: 10927721852448 | AA11: 11.15
A12: جمع | E12: =SUM(E9:E11) -> 4078911 | G12: =SUM(G9:G11) -> 47070537477644 | I12: =SUM(I9:I11) -> 82518581379994 | K12: =SUM(K9:K11) -> 575315 | M12: =SUM(M9:M11) -> 4198183992303 | O12: 0 | Q12: 0 | S12: =SUM(S9:S11) -> 4654226 | W12: =SUM(W9:W11) -> 51268721469947 | Y12: =SUM(Y9:Y11) -> 97926440029326 | AA12: =SUM(AA9:AA11) -> 99.91

Sheet سپرده
A1: صندوق سرمایه‌گذاری چند کالایی کیمیا
A2: صورت وضعیت پرتفوی
A3: برای ماه منتهی به 1405/06/31
A5: -2-1 | B5: سرمایه‌گذاری در سپرده‌ بانکی
D6: 1405/05/31 | F6: تغییرات طی دوره | J6: 1405/06/31
A8: سپرده های بانکی | D8: مبلغ | F8: افزایش | H8: کاهش | J8: مبلغ | L8: درصد به کل دارایی‌ها
A9: سپرده کوتاه مدت بانک تجارت | D9: 14132899610 | F9: 120187710 | H9: 0 | J9: 14253087320 | L9: 0.0001
A10: سپرده کوتاه مدت بانک ملت | D10: 400600 | F10: 0 | H10: 0 | J10: 400600 | L10: 0
A11: سپرده کوتاه مدت بانک ملت | D11: 4670243319 | F11: 1732320965772 | H11: 1725502044000 | J11: 11489165091 | L11: 0.0001
A12: سپرده کوتاه مدت بانک خاورمیانه | D12: 3493207464 | F12: 14834168 | H12: 0 | J12: 3508041632 | L12: 0
A13: سپرده کوتاه مدت بانک ملت بلوار کشاورز | D13: 5483757309 | F13: 2518959202528 | H13: 2474685154900 | J13: 49757804937 | L13: 0.0005
A14: سپرده کوتاه مدت بانک دی جنت آباد | D14: 0 | F14: 2000000 | H14: 825000 | J14: 1175000 | L14: 0
A15: سپرده کوتاه مدت بانک دی جنت آباد | D15: 0 | F15: 2000004990 | H15: 821781 | J15: 1999183209 | L15: 0
A16: جمع | D16: =SUM(D9:D15) -> 27780508302 | F16: =SUM(F9:F15) -> 4253417195168 | H16: =SUM(H9:H15) -> 4200188845681 | J16: =SUM(J9:J15) -> 81008857789 | L16: =SUM(L9:L15) -> 0.0007

Sheet درآمد
A1: صندوق سرمایه‌گذاری چند کالایی کیمیا
A2: صورت وضعیت درآمدها
A3: برای ماه منتهی به 1405/06/31
A5: -2 | B5: درآمد حاصل از سرمایه‌گذاری‌ها
F6: طی ماه | L6: از ابتدای سال مالی
A7: شرح | D7: یادداشت | F7: مبلغ | H7: درصد از کل درآمدها | J7: درصد از کل دارایی‌ها | L7: مبلغ | N7: درصد از کل درآمدها | P7: درصد از کل دارایی‌ها
A8: درآمد حاصل از سرمایه‌گذاری در سهام و حق تقدم سهام | D8: 1-2 | F8: ='درآمد سرمایه‌گذاری در سهام'!J12 -> 11209674657029 | H8: =F8/F11*100 -> 99.763665 | J8: 11.44 | L8: ='درآمد سرمایه‌گذاری در سهام'!T12 -> 21485391001965 | N8: =L8/L11*100 -> 99.779564 | P8: 11.44
A9: درآمد حاصل از سرمایه‌گذاری در سپرده بانکی | D9: 2-2 | F9: ='درآمد سپرده بانکی'!D13 -> 24709291828 | H9: =F9/F11*100 -> 0.21990732 | J9: 0.03 | L9: ='درآمد سپرده بانکی'!H13 -> 30842275970 | N9: =L9/L11*100 -> 0.14323355 | P9: 0.03
A10: سایر درآمدها | D10: 3-2 | F10: ='سایر درآمدها'!D10 -> 1845828640 | H10: =F10/F11*100 -> 0.016427473 | J10: 0.02 | L10: ='سایر درآمدها'!F10 -> 16623997649 | N10: =L10/L11*100 -> 0.077202934 | P10: 0.02
A11: جمع | F11: =SUM(F8:F10) -> 11236229777497 | H11: =SUM(H8:H10) -> 100 | J11: =SUM(J8:J10) -> 11.49 | L11: =SUM(L8:L10) -> 21532857275584 | N11: =SUM(N8:N10) -> 100 | P11: =SUM(P8:P10) -> 11.49

Sheet درآمد سرمایه‌گذاری در سهام
A1: صندوق سرمایه‌گذاری چند کالایی کیمیا
A2: صورت وضعیت درآمدها
A3: برای ماه منتهی به 1405/06/31
A5: -1-2 | B5: درآمد حاصل از سرمایه‌گذاری در سهام و حق تقدم سهام
D6: طی ماه | N6: از ابتدای سال مالی
J7: جمع | T7: جمع
A8: سهام | D8: درآمد سود سهام | F8: درآمد تغییر ارزش | H8: درآمد فروش | J8: مبلغ | L8: درصد از کل درآمدها | N8: درآمد سود سهام | P8: درآمد تغییر ارزش | R8: درآمد فروش | T8: مبلغ | V8: درصد از کل درآمدها
A9: شمش نقره SilverBar | D9: 0 | F9: 968856745565 | H9: 0 | J9: =SUM(D9:H9) -> 968856745565 | L9: 8.62 | N9: 0 | P9: 1655040246662 | R9: 0 | T9: =SUM(N9:R9) -> 1655040246662 | V9: =T9/درآمد!L11*100 -> 7.6861153
A10: شمش طلا GoldBar | D10: 0 | F10: 9153588854589 | H10: 0 | J10: =SUM(D10:H10) -> 9153588854589 | L10: 81.46 | N10: 0 | P10: 17997275144053 | R10: 0 | T10: =SUM(N10:R10) -> 17997275144053 | V10: =T10/درآمد!L11*100 -> 83.580525
A11: سکه طلا GoldCoin | D11: 0 | F11: 1087229056875 | H11: 0 | J11: =SUM(D11:H11) -> 1087229056875 | L11: 9.68 | N11: 0 | P11: 1833075611250 | R11: 0 | T11: =SUM(N11:R11) -> 1833075611250 | V11: =T11/درآمد!L11*100 -> 8.5129232
A12: جمع | D12: 0 | F12: =SUM(F9:F11) -> 11209674657029 | H12: 0 | J12: =SUM(J9:J11) -> 11209674657029 | L12: =SUM(L9:L11) -> 99.76 | N12: 0 | P12: =SUM(P9:P11) -> 21485391001965 | R12: 0 | T12: =SUM(T9:T11) -> 21485391001965 | V12: =SUM(V9:V11) -> 99.779564

Sheet درآمد سپرده بانکی
A1: صندوق سرمایه گذاری چند کالایی کیمیا
A2: صورت وضعیت درآمدها
A3: برای ماه منتهی به 1405/06/31
A5: 2-2 | B5: درآمد حاصل از سرمایه‌گذاری در سپرده بانکی
D6: طی ماه | H6: از ابتدای سال مالی
A7: نام سپرده بانکی | D7: سود سپرده بانکی | F7: درصد سود به میانگین سپرده | H7: سود سپرده بانکی | J7: درصد سود به میانگین سپرده
A8: سپرده کوتاه مدت بانک تجارت | D8: 120187710 | H8: 318205971
A9: سپرده کوتاه مدت بانک ملت | D9: 19832540 | H9: 387327321
A10: سپرده کوتاه مدت بانک خاورمی | D10: 14834168 | H10: 102816159
A11: سپرده کوتاه مدت بانک ملت | D11: 24554432420 | H11: 30033921529
A12: سپرده کوتاه مدت بانک دی | D12: 4990 | H12: 4990
A13: جمع | D13: =SUM(D8:D12) -> 24709291828 | H13: =SUM(H8:H12) -> 30842275970

Sheet سایر درآمدها
A1: صندوق سرمایه‌گذاری چند کالایی کیمیا
A2: صورت وضعیت درآمدها
A3: برای ماه منتهی به 1405/06/31
A5: 2-3 | B5: سایر درآمدها
D6: طی ماه | F6: 1405/06/31
A7: سایر درآمدها | D7: مبلغ | F7: مبلغ
A8: سایر درآمدها | D8: 0 | F8: 1646319485
A9: تعدیل کارمزد کارگزار | D9: 1845828640 | F9: 14977678164
A10: جمع | D10: =SUM(D8:D9) -> 1845828640 | F10: =SUM(F8:F9) -> 16623997649

Sheet سود سپرده بانکی
A1: صندوق سرمایه‌گذاری چند کالایی کیمیا
A2: صورت وضعیت درآمدها
A3: برای ماه منتهی به 1405/06/31
A5: سود سپرده بانکی
A6: شرح | C6: طی ماه | I6: از ابتدای سال مالی
C7: درآمد سود | E7: هزینه تنزیل | G7: خالص درآمد | I7: درآمد سود | K7: هزینه تنزیل | M7: خالص درآمد
A8: سپرده کوتاه مدت بانک تجارت | C8: 120187710 | E8: 0 | G8: 120187710 | I8: 318205971 | K8: 0 | M8: 318205971
A9: سپرده کوتاه مدت بانک ملت | C9: 19832540 | E9: 0 | G9: 19832540 | I9: 387327321 | K9: 0 | M9: 387327321
A10: سپرده کوتاه مدت بانک خاورمیانه | C10: 14834168 | E10: 0 | G10: 14834168 | I10: 102816159 | K10: 0 | M10: 102816159
A11: سپرده کوتاه مدت بانک ملت | C11: 24554432420 | E11: 0 | G11: 24554432420 | I11: 30033921529 | K11: 0 | M11: 30033921529
A12: سپرده کوتاه مدت بانک دی | C12: 4990 | E12: 0 | G12: 4990 | I12: 4990 | K12: 0 | M12: 4990
A13: جمع | C13: =SUM(C8:C12) -> 24709291828 | E13: 0 | G13: =SUM(G8:G12) -> 24709291828 | I13: =SUM(I8:I12) -> 30842275970 | K13: 0 | M13: =SUM(M8:M12) -> 30842275970

Sheet درآمد ناشی از تغییر قیمت اوراق
A1: صندوق سرمایه‌گذاری چند کالایی کیمیا
A2: صورت وضعیت درآمدها
A3: برای ماه منتهی به 1405/06/31
A5: درآمد ناشی از تغییر قیمت اوراق بهادار
A6: شرح | C6: طی ماه | K6: از ابتدای سال مالی
C7: تعداد | E7: خالص ارزش فروش | G7: ارزش دفتری | I7: سود و زیان ناشی از تغییر قیمت | K7: تعداد | M7: خالص ارزش فروش | O7: ارزش دفتری | Q7: سود و زیان ناشی از تغییر قیمت
A8: شمش نقره SilverBar | C8: 2182074 | E8: 10927721852448 | G8: =I8-E8 -> -9958865106883 | I8: 968856745565 | K8: 2182074 | M8: 10927721852448 | O8: =Q8-M8 -> -9272681605786 | Q8: 1655040246662
A9: شمش طلا GoldBar | C9: 2468439 | E9: 78234093493128 | G9: =I9-E9 -> -69080504638539 | I9: 9153588854589 | K9: 2468439 | M9: 78234093493128 | O9: =Q9-M9 -> -60236818349075 | Q9: 17997275144053
A10: سکه طلا GoldCoin | C10: 3713 | E10: 8764624683750 | G10: =I10-E10 -> -7677395626875 | I10: 1087229056875 | K10: 3713 | M10: 8764624683750 | O10: =Q10-M10 -> -6931549072500 | Q10: 1833075611250
A11: جمع | C11: =SUM(C8:C10) -> 4654226 | E11: =SUM(E8:E10) -> 97926440029326 | G11: =SUM(G8:G10) -> -86716765372297 | I11: =SUM(I8:I10) -> 11209674657029 | K11: =SUM(K8:K10) -> 4654226 | M11: =SUM(M8:M10) -> 97926440029326 | O11: =SUM(O8:O10) -> -76441049027361 | Q11: =SUM(Q8:Q10) -> 21485391001965
