Workbook

Sheet صورت وضعیت
A20: صندوق سرمایه‌گذاری چند کالایی کیمیا
A21: صورت وضعیت پرتفوی صندوق س. کالایی کیمیا (امرالد)
A22: برای ماه منتهی به 1405/07/30

Sheet گوهی سپرده
A1: صندوق سرمایه‌گذاری چند کالایی کیمیا
A2: صورت وضعیت پرتفوی صندوق س. کالایی کیمیا (امرالد)
A3: برای ماه منتهی به 1405/07/30
A4: -1 | B4: سرمایه‌گذاری‌ها
A5: -1-1 | C5: سرمایه‌گذاری در گواهی سپرده کالایی
E6: 1405/06/31 | K6: تغییرات طی دوره | S6: 1405/07/30
K7: خرید طی دوره | O7: فروش طی دوره
A8: نام شرکت | E8: تعداد | G8: بهای تمام شده | I8: خالص ارزش فروش | K8: تعداد | M8: بهای تمام شده | O8: تعداد | Q8: مبلغ فروش | S8: تعداد | U8: قیمت بازار هر سهم | W8: بهای تمام شده | Y8: خالص ارزش فروش | AA8: درصد به کل دارایی‌ها
A9: سکه طلا GoldCoin | E9: 3713 | G9: 3546030173628 | I9: 8764624683750 | K9: 0 | M9: 0 | O9: 0 | Q9: 0 | S9: 3713 | U9: 2733989600 | W9: 3546030173628 | Y9: 1.0144959e+13 | AA9: 10.04
A10: شمش طلا GoldBar | E10: 2468439 | G10: 38450009690533 | I10: 78234093493128 | K10: 71307 | M10: 2399985425031 | O10: 0 | Q10: 0 | S10: 2539746 | U10: 35880000 | W10: 40849995115564 | Y10: 90907383872448 | AA10: 89.93
A11: جمع | E11: =SUM(E9:E10) -> 2472152 | G11: =SUM(G9:G10) -> 41996039864161 | I11: =SUM(I9:I10) -> 86998718176878 | K11: =SUM(K9:K10) -> 71307 | M11: =SUM(M9:M10) -> 2399985425031 | O11: 0 | Q11: 0 | S11: =SUM(S9:S10) -> 2543459 | W11: =SUM(W9:W10) -> 44396025289192 | Y11: =SUM(Y9:Y10) -> 1.0105234e+14 | AA11: =SUM(AA9:AA10) -> 99.97

Sheet سپرده
A1: صندوق سرمایه‌گذاری چند کالایی کیمیا
A2: صورت وضعیت پرتفوی صندوق س. کالایی کیمیا (امرالد)
A3: برای ماه منتهی به 1405/07/30
A5: -2-1 | B5: سرمایه‌گذاری در سپرده‌ بانکی
D6: 1405/06/31 | F6: تغییرات طی دوره | J6: 1405/07/30
A7: سپرده‌های بانکی | D7: مبلغ | F7: افزایش | H7: کاهش | J7: مبلغ | L7: درصد به کل دارایی‌ها
A8: سپرده کوتاه مدت بانک تجارت | D8: 14253087320 | F8: 58672153 | H8: -630000 | J8: 14311129473 | L8: 0.014157639
A9: سپرده کوتاه مدت بانک ملت | D9: 11489565691 | E9: 0 | F9: 2402483958044 | G9: 0 | H9: -2400000630000 | I9: 0 | J9: 13972893735 | L9: 0.013823031
A10: سپرده کوتاه مدت بانک خاورمیانه | D10: 3508041632 | F10: 14413761 | H10: -693000 | J10: 3521762393 | L10: 0.0034839907
A11: سپرده کوتاه مدت بانک دی | D11: 1175000 | F11: 0 | H11: 0 | J11: 1175000 | L11: 1.1623979e-06
A12: جمع | D12: =SUM(D8:D11) -> 29251869643 | F12: =SUM(F8:F11) -> 2402557043958 | H12: =SUM(H8:H11) -> -2400001953000 | J12: =SUM(J8:J11) -> 31806960601 | L12: =SUM(L8:L11) -> 0.031465824

Sheet درآمد
A1: صندوق سرمایه‌گذاری چند کالایی کیمیا
A2: صورت وضعیت درآمدها صندوق س. کالایی کیمیا (امرالد)
A3: برای ماه منتهی به 1405/07/30
A5: -2 | B5: درآمد حاصل از سرمایه‌گذاری‌ها
D6: طی ماه | L6: از ابتدای سال مالی
A7: شرح | D7: یادداشت | F7: مبلغ | H7: درصد از کل درآمدها | J7: درصد از کل دارایی‌ها | L7: مبلغ | N7: درصد از کل درآمدها | P7: درصد از کل دارایی‌ها
A8: درآمد حاصل از سرمایه‌گذاری در گواهی سپرده کالایی | D8: 1-2 | F8: ='درآمد سرمایه گذاری در گواهی سپر'!J11 -> 11653639090723 | H8: =F8/F11*100 -> 99.98781 | J8: 11.528651 | L8: ='درآمد سرمایه گذاری در گواهی سپر'!T11 -> 31483989846026 | N8: =L8/L11*100 -> 99.955217 | P8: 31.146317
A9: درآمد حاصل از سرمایه‌گذاری در سپرده بانکی | D9: 2-2 | F9: ='درآمد سپرده بانکی'!D11 -> 120244734 | H9: =F9/F11*100 -> 0.0010316955 | J9: 0.00011895508 | L9: ='درآمد سپرده بانکی'!H11 -> 928594185 | N9: =L9/L11*100 -> 0.0029480963 | P9: 0.00091863481
A10: سایر درآمدها | D10: 3-2 | F10: ='سایر درآمدها'!D10 -> 1300543556 | H10: =F10/F11*100 -> 0.011158618 | J10: 0.0012865949 | L10: ='سایر درآمدها'!F10 -> 13177303882 | N10: =L10/L11*100 -> 0.04183524 | P10: 0.013035974
A11: جمع | F11: =SUM(F8:F10) -> 11655059879013 | H11: =SUM(H8:H10) -> 100 | J11: =SUM(J8:J10) -> 11.530057 | L11: =SUM(L8:L10) -> 31498095744093 | N11: =SUM(N8:N10) -> 100 | P11: =SUM(P8:P10) -> 31.160272

Sheet درآمد سرمایه گذاری در گواهی سپر
A1: صندوق سرمایه‌گذاری چند کالایی کیمیا
A2: صورت وضعیت درآمدها صندوق س. کالایی کیمیا (امرالد)
A3: برای ماه منتهی به 1405/07/30
A5: -1-2 | B5: درآمد حاصل از سرمایه‌گذاری در گواهی سپرده کالایی
D6: طی ماه | N6: از ابتدای سال مالی
J7: جمع | T7: جمع
A8: سهام | D8: درآمد سود سهام | F8: درآمد تغییر ارزش | H8: درآمد فروش | J8: مبلغ | L8: درصد از کل درآمدها | N8: درآمد سود سهام | P8: درآمد تغییر ارزش | R8: درآمد فروش | T8: مبلغ | V8: درصد از کل درآمدها
A9: شمش طلا GoldBar | D9: 0 | F9: 10273304954289 | H9: 0 | J9: 10273304954289 | L9: 88.144592 | N9: 0 | P9: 28270580098342 | R9: 0 | T9: 28270580098342 | V9: 89.753299
A10: سکه طلا GoldCoin | D10: 0 | F10: 1380334136434 | H10: 0 | J10: 1380334136434 | L10: 11.843218 | N10: 0 | P10: 3213409747684 | R10: 0 | T10: 3213409747684 | V10: 10.201918
A11: جمع | D11: =SUM(D9:D10) -> 0 | F11: =SUM(F9:F10) -> 11653639090723 | H11: =SUM(H9:H10) -> 0 | J11: =SUM(J9:J10) -> 11653639090723 | L11: =SUM(L9:L10) -> 99.98781 | N11: =SUM(N9:N10) -> 0 | P11: =SUM(P9:P10) -> 31483989846026 | R11: =SUM(R9:R10) -> 0 | T11: =SUM(T9:T10) -> 31483989846026 | V11: =SUM(V9:V10) -> 99.955217

Sheet درآمد سپرده بانکی
A1: صندوق سرمایه‌گذاری چند کالایی کیمیا
A2: صورت وضعیت درآمدها صندوق س. کالایی کیمیا (امرالد)
A3: برای ماه منتهی به 1405/07/30
A5: -2-2 | B5: درآمد حاصل از سرمایه‌گذاری در سپرده بانکی
D6: طی ماه | H6: از ابتدای سال مالی
A7: نام سپرده بانکی | D7: سود سپرده بانکی | F7: درصد سود به میانگین سپرده | H7: سود سپرده بانکی | J7: درصد سود به میانگین سپرده
A8: سپرده کوتاه مدت بانک تجارت | D8: 58672153 | H8: 376878124
A9: سپرده کوتاه مدت بانک ملت | D9: 47158820 | H9: 434486141
A10: سپرده کوتاه مدت بانک خاورمیانه | D10: 14413761 | H10: 117229920
A11: جمع | D11: =SUM(D8:D10) -> 120244734 | H11: =SUM(H8:H10) -> 928594185

Sheet سایر درآمدها
A1: صندوق سرمایه‌گذاری چند کالایی کیمیا
A2: صورت وضعیت درآمدها صندوق س. کالایی کیمیا (امرالد)
A3: برای ماه منتهی به 1405/07/30
A5: -3-2 | B5: سایر درآمدها
D6: طی ماه | F6: 1405/07/30
A7: سایر درآمدها | D7: مبلغ | F7: مبلغ
A8: سایر درآمدها | D8: 0 | F8: 1646319485
A9: تعدیل کارمزد کارگزار | D9: 1300543556 | F9: 11530984397
A10: جمع | D10: =SUM(D8:D9) -> 1300543556 | F10: =SUM(F8:F9) -> 13177303882

Sheet سود سپرده بانکی
A1: صندوق سرمایه‌گذاری چند کالایی کیمیا
A2: صورت وضعیت درآمدها صندوق س. کالایی کیمیا (امرالد)
A3: برای ماه منتهی به 1405/07/30
A5: سود سپرده بانکی
A6: شرح | C6: طی ماه | I6: از ابتدای سال مالی
C7: درآمد سود | E7: هزینه تنزیل | G7: خالص درآمد | I7: درآمد سود | K7: هزینه تنزیل | M7: خالص درآمد
A8: سپرده کوتاه مدت بانک تجارت | C8: 58672153 | E8: 0 | G8: 58672153 | I8: 376878124 | K8: 0 | M8: 376878124
A9: سپرده کوتاه مدت بانک ملت | C9: 47158820 | E9: 0 | G9: 47158820 | I9: 434486141 | K9: 0 | M9: 434486141
A10: سپرده کوتاه مدت بانک خاورمیانه | C10: 14413761 | E10: 0 | G10: 14413761 | I10: 117229920 | K10: 0 | M10: 117229920
A11: جمع | C11: =SUM(C8:C10) -> 120244734 | E11: =SUM(E8:E10) -> 0 | G11: =SUM(G8:G10) -> 120244734 | I11: =SUM(I8:I10) -> 928594185 | K11: =SUM(K8:K10) -> 0 | M11: =SUM(M8:M10) -> 928594185

Sheet درآمد ناشی از تغییر قیمت اوراق
A1: صندوق سرمایه‌گذاری چند کالایی کیمیا
A2: صورت وضعیت درآمدها صندوق س. کالایی کیمیا (امرالد)
A3: برای ماه منتهی به 1405/07/30
A5: درآمد ناشی از تغییر قیمت اوراق بهادار
A6: شرح | C6: طی ماه | K6: از ابتدای سال مالی
C7: تعداد | E7: خالص ارزش فروش | G7: ارزش دفتری | I7: سود و زیان ناشی از تغییر قیمت | K7: تعداد | M7: خالص ارزش فروش | O7: ارزش دفتری | Q7: سود و زیان ناشی از تغییر قیمت
A8: شمش طلا GoldBar | C8: 2539746 | E8: 90907383872448 | G8: -80634078918159 | I8: 10273304954289 | K8: 2539746 | M8: 90907383872448 | O8: -62636803774106 | Q8: 28270580098342
A9: سکه طلا GoldCoin | C9: 3713 | E9: 10144958820184 | G9: -8764624683750 | I9: 1380334136434 | K9: 3713 | M9: 10144958820184 | O9: -6931549072500 | Q9: 3213409747684
A10: جمع | C10: =SUM(C8:C9) -> 2543459 | E10: =SUM(E8:E9) -> 101052342692632 | G10: =SUM(G8:G9) -> -89398703601909 | I10: =SUM(I8:I9) -> 11653639090723 | K10: =SUM(K8:K9) -> 2543459 | M10: =SUM(M8:M9) -> 101052342692632 | O10: =SUM(O8:O9) -> -69568352846606 | Q10: =SUM(Q8:Q9) -> 31483989846026
