Workbook

Sheet صورت وضعیت
A20: صندوق سرمایه‌گذاری چند کالایی کیمیا
A21: صورت وضعیت پرتفوی صندوق س. کالایی کیمیا (پلاتا)
A22: برای ماه منتهی به 1405/07/30

Sheet گواهی سپرده
A1: صندوق سرمایه‌گذاری چند کالایی کیمیا
A2: صورت وضعیت پرتفوی صندوق س. کالایی کیمیا (پلاتا)
A3: برای ماه منتهی به 1405/07/30
A4: -1 | B4: سرمایه‌گذاری‌ها
A5: -1-1 | C5: سرمایه‌گذاری در گواهی سپرده کالایی
E6: 1405/06/31 | K6: تغییرات طی دوره | S6: 1405/07/30
K7: خرید طی دوره | O7: فروش طی دوره
A8: نام شرکت | E8: تعداد | G8: بهای تمام شده | I8: خالص ارزش فروش | K8: تعداد | M8: بهای تمام شده | O8: تعداد | Q8: مبلغ فروش | S8: تعداد | U8: قیمت بازار هر سهم | W8: بهای تمام شده | Y8: خالص ارزش فروش | AA8: درصد به کل دارایی ها
A9: شمش نقره SilverBar | E9: 2182074 | G9: 9272681605786 | I9: 10927721852448 | K9: 0 | M9: 0 | O9: 0 | Q9: 0 | S9: 2182074 | U9: 5000800 | W9: 9272681605786 | Y9: 1.0885927e+13 | AA9: 99.5
A10: جمع | E10: =SUM(E9) -> 2182074 | G10: =SUM(G9) -> 9272681605786 | I10: =SUM(I9) -> 10927721852448 | K10: 0 | M10: 0 | O10: 0 | Q10: 0 | S10: =SUM(S9) -> 2182074 | W10: =SUM(W9) -> 9272681605786 | Y10: =SUM(Y9) -> 1.0885927e+13 | AA10: =SUM(AA9) -> 99.5

Sheet سپرده
A1: صندوق سرمایه‌گذاری چند کالایی کیمیا
A2: صورت وضعیت پرتفوی صندوق س. کالایی کیمیا (پلاتا)
A3: برای ماه منتهی به 1405/07/30
A5: -2-1 | B5: سرمایه‌گذاری در سپرده‌ بانکی
D6: 1405/06/31 | F6: تغییرات طی دوره | J6: 1405/07/30
A7: سپرده‌های بانکی | D7: مبلغ | F7: افزایش | H7: کاهش | J7: مبلغ | L7: درصد به کل دارایی‌ها
A8: سپرده کوتاه مدت بانک ملت | D8: 49757804937 | F8: 3419453264 | H8: -630000 | J8: =SUM(D8:H8) -> 53176628201 | L8: 0.0049
A9: سپرده کوتاه مدت بانک دی | D9: 1999183209 | F9: 8481121 | H9: -2016000 | J9: =SUM(D9:H9) -> 2005648330 | L9: 0.0002
A10: جمع | D10: =SUM(D8:D9) -> 51756988146 | F10: =SUM(F8:F9) -> 3427934385 | H10: =SUM(H8:H9) -> -2646000 | J10: =SUM(J8:J9) -> 55182276531 | L10: =SUM(L8:L9) -> 0.0051

Sheet درآمد
A1: صندوق سرمایه‌گذاری چند کالایی کیمیا
A2: صورت وضعیت درآمدها صندوق س. کالایی کیمیا (پلاتا)
A3: برای ماه منتهی به 1405/07/30
A5: -2 | B5: درآمد حاصل از سرمایه‌گذاری‌ها
F6: طی ماه | L6: از ابتدای سال مالی
A7: شرح | D7: یادداشت | F7: مبلغ | H7: درصد از کل درآمدها | J7: درصد از کل دارایی‌ها | L7: مبلغ | N7: درصد از کل درآمدها | P7: درصد از کل دارایی‌ها
A8: درآمد حاصل از سرمایه‌گذاری در گواهی سپرده کالایی | D8: 1-2 | F8: ='درآمد سرمایه‌گذاری در کالا'!J10 -> -41795270831 | H8: =F8/F11*100 -> 100.53079 | J8: -0.38200215 | L8: ='درآمد سرمایه‌گذاری در کالا'!T10 -> 1613244975831 | N8: =L8/L11*100 -> 97.87642 | P8: 14.744803
A9: درآمد حاصل از سرمایه‌گذاری در سپرده بانکی | D9: 2-2 | F9: ='درآمد سپرده بانکی'!D10 -> 220674024 | H9: =F9/F11*100 -> -0.53079053 | J9: 0.0020169256 | L9: ='درآمد سپرده بانکی'!H10 -> 30254600543 | N9: =L9/L11*100 -> 1.8355625 | P9: 0.27652225
A10: سایر درآمدها | D10: 3-2 | F10: ='سایر درآمدها'!D9 -> 0 | H10: =F10/F11*100 -> 0 | J10: 0.011886762 | L10: ='سایر درآمدها'!F9 -> 4747237323 | N10: =L10/L11*100 -> 0.28801738 | P10: 0.014075145
A11: جمع | F11: =SUM(F8:F10) -> -41574596807 | H11: =SUM(H8:H10) -> 100 | J11: =SUM(J8:J10) -> -0.36809846 | L11: =SUM(L8:L10) -> 1648246813697 | N11: =SUM(N8:N10) -> 100 | P11: =SUM(P8:P10) -> 15.035401

Sheet درآمد سرمایه‌گذاری در کالا
A1: صندوق سرمایه‌گذاری چند کالایی کیمیا
A2: صورت وضعیت درآمدها صندوق س. کالایی کیمیا (پلاتا)
A3: برای ماه منتهی به 1405/07/30
A5: -1-2 | B5: درآمد حاصل از سرمایه‌گذاری در گواهی سپرده کالایی
D6: طی ماه | N6: از ابتدای سال مالی
J7: جمع | T7: جمع
A8: سهام | D8: درآمد سود سهام | F8: درآمد تغییر ارزش | H8: درآمد فروش | J8: مبلغ | L8: درصد از کل درآمدها | N8: درآمد سود سهام | P8: درآمد تغییر ارزش | R8: درآمد فروش | T8: مبلغ | V8: درصد از کل درآمدها
A9: شمش نقره SilverBar | D9: 0 | F9: -41795270831 | H9: 0 | J9: =SUM(D9:H9) -> -41795270831 | L9: 103.77717 | N9: 0 | P9: 1613244975831 | R9: 0 | T9: =SUM(N9:R9) -> 1613244975831 | V9: 98.067245
A10: جمع | D10: 0 | F10: =SUM(F9) -> -41795270831 | H10: 0 | J10: =SUM(J9) -> -41795270831 | L10: =SUM(L9) -> 103.77717 | N10: 0 | P10: 1613244975831 | R10: 0 | T10: 1613244975831 | V10: =SUM(V9) -> 98.067245

Sheet درآمد سپرده بانکی
A1: صندوق سرمایه‌گذاری چند کالایی کیمیا
A2: صورت وضعیت درآمدها صندوق س. کالایی کیمیا (پلاتا)
A3: برای ماه منتهی به 1405/07/30
A5: -2-2 | B5: درآمد حاصل از سرمایه‌گذاری در سپرده بانکی
D6: طی ماه | H6: از ابتدای سال مالی
A7: نام سپرده بانکی | D7: سود سپرده بانکی و گواهی سپرده | F7: درصد سود به میانگین سپرده | H7: سود سپرده بانکی و گواهی سپرده | J7: درصد سود به میانگین سپرده
A8: سپرده کوتاه مدت بانک ملت | D8: 212192903 | H8: 30246114432
A9: سپرده کوتاه مدت بانک دی | D9: 8481121 | H9: 8486111
A10: جمع | D10: =SUM(D8:D9) -> 220674024 | H10: =SUM(H8:H9) -> 30254600543

Sheet سایر درآمدها
A1: صندوق سرمایه‌گذاری چند کالایی کیمیا
A2: صورت وضعیت درآمدها صندوق س. کالایی کیمیا (پلاتا)
A3: برای ماه منتهی به 1405/07/30
A5: -3-2 | B5: سایر درآمدها
D6: طی ماه | F6: 1405/07/30
A7: سایر درآمدها | D7: مبلغ | F7: مبلغ
A8: تعدیل کارمزد کارگزار | D8: 0 | F8: 4747237323
A9: جمع | D9: =SUM(D8) -> 0 | F9: =SUM(F8) -> 4747237323

Sheet سود سپرده بانکی
A1: صندوق سرمایه‌گذاری چند کالایی کیمیا
A2: صورت وضعیت درآمدها صندوق س. کالایی کیمیا (پلاتا)
A3: برای ماه منتهی به 1405/07/30
A5: سود سپرده بانکی
A6: شرح | C6: طی ماه | I6: از ابتدای سال مالی
C7: درآمد سود | E7: هزینه تنزیل | G7: خالص درآمد | I7: درآمد سود | K7: هزینه تنزیل | M7: خالص درآمد
A8: سپرده کوتاه مدت بانک ملت | C8: 212192903 | E8: 0 | G8: 212192903 | I8: 30246114432 | K8: 0 | M8: 30246114432
A9: سپرده کوتاه مدت بانک دی | C9: 8481121 | E9: 0 | G9: 8481121 | I9: 8486111 | K9: 0 | M9: 8486111
A10: جمع | C10: =SUM(C8:C9) -> 220674024 | E10: 0 | G10: =SUM(G8:G9) -> 220674024 | I10: =SUM(I8:I9) -> 30254600543 | K10: 0 | M10: =SUM(M8:M9) -> 30254600543

Sheet درآمد ناشی از تغییر قیمت اوراق
A1: صندوق سرمایه‌گذاری چند کالایی کیمیا
A2: صورت وضعیت درآمدها صندوق س. کالایی کیمیا (پلاتا)
A3: برای ماه منتهی به 1405/07/30
A5: درآمد ناشی از تغییر قیمت اوراق بهادار
A6: شرح | C6: طی ماه | K6: از ابتدای سال مالی
C7: تعداد | E7: خالص ارزش فروش | G7: ارزش دفتری | I7: سود و زیان ناشی از تغییر قیمت | K7: تعداد | M7: خالص ارزش فروش | O7: ارزش دفتری | Q7: سود و زیان ناشی از تغییر قیمت
A8: شمش نقره SilverBar | C8: 2182074 | E8: 10927721852448 | G8: -10969517123279 | I8: -41795270831 | K8: 2182074 | M8: 10885926581618 | O8: -9272681605787 | Q8: 1613244975831
A9: جمع | C9: =SUM(C8) -> 2182074 | E9: =SUM(E8) -> 10927721852448 | G9: =SUM(G8) -> -10969517123279 | I9: =SUM(I8) -> -41795270831 | K9: =SUM(K8) -> 2182074 | M9: =SUM(M8) -> 10885926581618 | O9: =SUM(O8) -> -9272681605787 | Q9: =SUM(Q8) -> 1613244975831
